BEGIN:VCALENDAR
VERSION:2.0
PRODID:https://www.b-future.org/
NAME:Deutsch
X-WR-CALNAME:Deutsch
BEGIN:VTIMEZONE
TZID:Europe/Berlin
BEGIN:DAYLIGHT
DTSTART:20250330T010000
TZOFFSETFROM:+0100
TZOFFSETTO:+0200
END:DAYLIGHT
BEGIN:STANDARD
DTSTART:20251026T030000
TZOFFSETFROM:+0200
TZOFFSETTO:+0100
END:STANDARD
BEGIN:DAYLIGHT
DTSTART:20260329T010000
TZOFFSETFROM:+0100
TZOFFSETTO:+0200
END:DAYLIGHT
END:VTIMEZONE
BEGIN:VTIMEZONE
TZID:UTC
BEGIN:STANDARD
DTSTART:20250729T001508
TZOFFSETFROM:+0000
TZOFFSETTO:+0000
END:STANDARD
END:VTIMEZONE
BEGIN:VEVENT
UID:69ec078ce994d
DTSTAMP:20260425T001508Z
SUMMARY:Your Stalker’s Playlist: Wie Popkultur Beziehungsgewalt romantisi
 ert
DESCRIPTION:Popkultur kann Beziehungsgewalt verharmlosen – von Stalking i
 n Hits bis zu toxischen Songtexten. Maren Kling und Sonja Peteranderl zeig
 en\, wie Musik und KI zu alternativen\, konsensfördernden Narrativen genu
 tzt werden können.
LOCATION:Münsterpl.\, 53111 Bonn\, Germany
URL:https://www.b-future.org/2025/veranstaltungen/your-stalkers-playlist-wi
 e-popkultur-beziehungsgewalt-romantisiert
DTSTART;TZID=Europe/Berlin:20251003T210000
DTEND;TZID=Europe/Berlin:20251003T220000
END:VEVENT
END:VCALENDAR