BEGIN:VCALENDAR
VERSION:2.0
PRODID:https://www.b-future.org/
NAME:Deutsch
X-WR-CALNAME:Deutsch
BEGIN:VTIMEZONE
TZID:Europe/Berlin
BEGIN:DAYLIGHT
DTSTART:20250330T010000
TZOFFSETFROM:+0100
TZOFFSETTO:+0200
END:DAYLIGHT
BEGIN:STANDARD
DTSTART:20251026T030000
TZOFFSETFROM:+0200
TZOFFSETTO:+0100
END:STANDARD
BEGIN:DAYLIGHT
DTSTART:20260329T010000
TZOFFSETFROM:+0100
TZOFFSETTO:+0200
END:DAYLIGHT
END:VTIMEZONE
BEGIN:VTIMEZONE
TZID:UTC
BEGIN:STANDARD
DTSTART:20250729T004058
TZOFFSETFROM:+0000
TZOFFSETTO:+0000
END:STANDARD
END:VTIMEZONE
BEGIN:VEVENT
UID:69ec0d9a74a35
DTSTAMP:20260425T004058Z
SUMMARY:Reporting Europe: Journalism\, Democracy\, and the Authoritarian Ch
 allenge
DESCRIPTION:Across Europe\, the space for independent journalism is shrinki
 ng. How can media professionals respond to increasing threats while uphold
 ing democratic values?
LOCATION:Bundeskanzlerplatz 2d\, 53113 Bonn\, Germany
URL:https://www.b-future.org/en/2025/events/reporting-europe-journalism-dem
 ocracy-and-the-authoritarian-challenge
DTSTART;TZID=Europe/Berlin:20251002T130000
DTEND;TZID=Europe/Berlin:20251002T170000
END:VEVENT
END:VCALENDAR