BEGIN:VCALENDAR
VERSION:2.0
PRODID:https://www.b-future.org/
NAME:Deutsch
X-WR-CALNAME:Deutsch
BEGIN:VTIMEZONE
TZID:Europe/Berlin
BEGIN:DAYLIGHT
DTSTART:20250330T010000
TZOFFSETFROM:+0100
TZOFFSETTO:+0200
END:DAYLIGHT
BEGIN:STANDARD
DTSTART:20251026T030000
TZOFFSETFROM:+0200
TZOFFSETTO:+0100
END:STANDARD
BEGIN:DAYLIGHT
DTSTART:20260329T010000
TZOFFSETFROM:+0100
TZOFFSETTO:+0200
END:DAYLIGHT
END:VTIMEZONE
BEGIN:VTIMEZONE
TZID:UTC
BEGIN:STANDARD
DTSTART:20250725T155058
TZOFFSETFROM:+0000
TZOFFSETTO:+0000
END:STANDARD
END:VTIMEZONE
BEGIN:VEVENT
UID:69e79ce296b1f
DTSTAMP:20260421T155058Z
SUMMARY:Macht der Bilder: So erkennst Du\, ob Bilder oder Videos durch KI e
 rzeugt oder manipuliert wurden
DESCRIPTION:So erkennst Du\, ob Bilder oder Videos durch KI erzeugt oder ma
 nipuliert wurden
LOCATION:Münsterpl.\, 53111 Bonn\, Germany
URL:https://www.b-future.org/2025/veranstaltungen/macht-der-bilder-2
DTSTART;TZID=Europe/Berlin:20251003T130000
DTEND;TZID=Europe/Berlin:20251003T133000
END:VEVENT
END:VCALENDAR