BEGIN:VCALENDAR
VERSION:2.0
PRODID:https://www.b-future.org/
NAME:Deutsch
X-WR-CALNAME:Deutsch
BEGIN:VTIMEZONE
TZID:Europe/Berlin
BEGIN:DAYLIGHT
DTSTART:20250330T010000
TZOFFSETFROM:+0100
TZOFFSETTO:+0200
END:DAYLIGHT
BEGIN:STANDARD
DTSTART:20251026T030000
TZOFFSETFROM:+0200
TZOFFSETTO:+0100
END:STANDARD
BEGIN:DAYLIGHT
DTSTART:20260329T010000
TZOFFSETFROM:+0100
TZOFFSETTO:+0200
END:DAYLIGHT
END:VTIMEZONE
BEGIN:VTIMEZONE
TZID:UTC
BEGIN:STANDARD
DTSTART:20250725T120000
TZOFFSETFROM:+0000
TZOFFSETTO:+0000
END:STANDARD
END:VTIMEZONE
BEGIN:VEVENT
UID:69e766c0158c6
DTSTAMP:20260421T120000Z
SUMMARY:Constructive Construction: Reporting the Future of Sustainable Buil
 ding
DESCRIPTION:Buildings are a hidden climate culprit\, but solutions are with
 in reach. Carolina Kyllmann shows how journalism can spotlight circular co
 nstruction and inspire change in one of the world’s most polluting indus
 tries.
LOCATION:Münsterpl.\, 53111 Bonn\, Germany
URL:https://www.b-future.org/en/2025/events/constructive-construction-repor
 ting-the-future-of-sustainable-building
DTSTART;TZID=Europe/Berlin:20251004T163000
DTEND;TZID=Europe/Berlin:20251004T171500
END:VEVENT
END:VCALENDAR