BEGIN:VCALENDAR
VERSION:2.0
PRODID:https://www.b-future.org/
NAME:Deutsch
X-WR-CALNAME:Deutsch
BEGIN:VTIMEZONE
TZID:Europe/Berlin
BEGIN:DAYLIGHT
DTSTART:20250330T010000
TZOFFSETFROM:+0100
TZOFFSETTO:+0200
END:DAYLIGHT
BEGIN:STANDARD
DTSTART:20251026T030000
TZOFFSETFROM:+0200
TZOFFSETTO:+0100
END:STANDARD
BEGIN:DAYLIGHT
DTSTART:20260329T010000
TZOFFSETFROM:+0100
TZOFFSETTO:+0200
END:DAYLIGHT
END:VTIMEZONE
BEGIN:VTIMEZONE
TZID:UTC
BEGIN:STANDARD
DTSTART:20250725T085748
TZOFFSETFROM:+0000
TZOFFSETTO:+0000
END:STANDARD
END:VTIMEZONE
BEGIN:VEVENT
UID:69e73c0cf16ef
DTSTAMP:20260421T085748Z
SUMMARY:Wenn die Glaskugel streikt – Wie wir mit dem ARD-Trendradar die Z
 ukunft des ÖRR gestalten
DESCRIPTION:Der ARD Trendradar zeigt erstmals 20 Trends\, die helfen\, das 
 Übermorgen zu verstehen und die Zukunft der ARD aktiv zu gestalten. Entde
 cke\, wie Medien relevant bleiben\, bevor sie es sein müssen.
LOCATION:Maximilianstraße 15\, 53111 Bonn\, Germany
URL:https://www.b-future.org/2025/veranstaltungen/wenn-die-glaskugel-streik
 t---wie-wir-mit-dem-ard-trendradar-die-zukunft-des-oerr-gestalten
DTSTART;TZID=Europe/Berlin:20251003T152000
DTEND;TZID=Europe/Berlin:20251003T160500
END:VEVENT
END:VCALENDAR