BEGIN:VCALENDAR
VERSION:2.0
PRODID:https://www.b-future.org/
NAME:Deutsch
X-WR-CALNAME:Deutsch
BEGIN:VTIMEZONE
TZID:Europe/Berlin
BEGIN:DAYLIGHT
DTSTART:20250330T010000
TZOFFSETFROM:+0100
TZOFFSETTO:+0200
END:DAYLIGHT
BEGIN:STANDARD
DTSTART:20251026T030000
TZOFFSETFROM:+0200
TZOFFSETTO:+0100
END:STANDARD
BEGIN:DAYLIGHT
DTSTART:20260329T010000
TZOFFSETFROM:+0100
TZOFFSETTO:+0200
END:DAYLIGHT
END:VTIMEZONE
BEGIN:VTIMEZONE
TZID:UTC
BEGIN:STANDARD
DTSTART:20250727T132122
TZOFFSETFROM:+0000
TZOFFSETTO:+0000
END:STANDARD
END:VTIMEZONE
BEGIN:VEVENT
UID:69ea1cd2ed6f4
DTSTAMP:20260423T132122Z
SUMMARY:DW Freedom Talk: Rethinking Media’s Role in Cultivating Conversat
 ions
DESCRIPTION:How can media help bridge divides and rebuild trust? DW Akademi
 e shares global insights on creating meaningful dialogue that truly connec
 ts with communities.
LOCATION:Mülheimer Pl. 1\, 53111 Bonn\, Germany
URL:https://www.b-future.org/en/2025/events/dw-freedom-talk-rethinking-medi
 as-role-in-cultivating-conversations
DTSTART;TZID=Europe/Berlin:20251004T110000
DTEND;TZID=Europe/Berlin:20251004T114500
END:VEVENT
END:VCALENDAR