BEGIN:VCALENDAR
VERSION:2.0
PRODID:https://www.b-future.org/
NAME:Deutsch
X-WR-CALNAME:Deutsch
BEGIN:VTIMEZONE
TZID:Europe/Berlin
BEGIN:DAYLIGHT
DTSTART:20250330T010000
TZOFFSETFROM:+0100
TZOFFSETTO:+0200
END:DAYLIGHT
BEGIN:STANDARD
DTSTART:20251026T030000
TZOFFSETFROM:+0200
TZOFFSETTO:+0100
END:STANDARD
BEGIN:DAYLIGHT
DTSTART:20260329T010000
TZOFFSETFROM:+0100
TZOFFSETTO:+0200
END:DAYLIGHT
END:VTIMEZONE
BEGIN:VTIMEZONE
TZID:UTC
BEGIN:STANDARD
DTSTART:20250727T081310
TZOFFSETFROM:+0000
TZOFFSETTO:+0000
END:STANDARD
END:VTIMEZONE
BEGIN:VEVENT
UID:69e9d49653e54
DTSTAMP:20260423T081310Z
SUMMARY:Zetland: How to Launch Two (Three?) Successful Publications by Putt
 ing Them in the Hands of Citizens
DESCRIPTION:What makes Zetland so successful? The Danish membership-driven 
 newsroom is redefining journalism through deep listening\, dialogue\, and 
 transparency. Learn how their model took off in Finland.
LOCATION:Maximilianstraße 15\, 53111 Bonn\, Germany
URL:https://www.b-future.org/en/2025/events/zetland-how-to-begin-with-a-que
 stion-and-make-people-care-deeply-about-what-we-do
DTSTART;TZID=Europe/Berlin:20251004T100000
DTEND;TZID=Europe/Berlin:20251004T104500
END:VEVENT
END:VCALENDAR