BEGIN:VCALENDAR
VERSION:2.0
PRODID:https://www.b-future.org/
NAME:Deutsch
X-WR-CALNAME:Deutsch
BEGIN:VTIMEZONE
TZID:Europe/Berlin
BEGIN:DAYLIGHT
DTSTART:20250330T010000
TZOFFSETFROM:+0100
TZOFFSETTO:+0200
END:DAYLIGHT
BEGIN:STANDARD
DTSTART:20251026T030000
TZOFFSETFROM:+0200
TZOFFSETTO:+0100
END:STANDARD
BEGIN:DAYLIGHT
DTSTART:20260329T010000
TZOFFSETFROM:+0100
TZOFFSETTO:+0200
END:DAYLIGHT
END:VTIMEZONE
BEGIN:VTIMEZONE
TZID:UTC
BEGIN:STANDARD
DTSTART:20250725T101755
TZOFFSETFROM:+0000
TZOFFSETTO:+0000
END:STANDARD
END:VTIMEZONE
BEGIN:VEVENT
UID:69e74ed316159
DTSTAMP:20260421T101755Z
SUMMARY:Lerne das *iNNEN-Netzwerk kennen!
DESCRIPTION:*iNNEN ist das Netzwerk von und für Frauen im Journalismus. Wi
 r vernetzen\, unterstützen und gestalten die Zukunft der Branche. Lust au
 f Austausch? Dann bist du hier richtig.
LOCATION:Maximilianstraße 15\, 53111 Bonn\, Germany
URL:https://www.b-future.org/2025/veranstaltungen/lerne-das-innen-netzwerk-
 kennen
DTSTART;TZID=Europe/Berlin:20251004T120000
DTEND;TZID=Europe/Berlin:20251004T130000
END:VEVENT
END:VCALENDAR