BEGIN:VCALENDAR
VERSION:2.0
PRODID:https://www.b-future.org/
NAME:Deutsch
X-WR-CALNAME:Deutsch
BEGIN:VTIMEZONE
TZID:Europe/Berlin
BEGIN:DAYLIGHT
DTSTART:20240331T010000
TZOFFSETFROM:+0100
TZOFFSETTO:+0200
END:DAYLIGHT
BEGIN:STANDARD
DTSTART:20241027T030000
TZOFFSETFROM:+0200
TZOFFSETTO:+0100
END:STANDARD
BEGIN:DAYLIGHT
DTSTART:20250330T010000
TZOFFSETFROM:+0100
TZOFFSETTO:+0200
END:DAYLIGHT
END:VTIMEZONE
BEGIN:VTIMEZONE
TZID:UTC
BEGIN:STANDARD
DTSTART:20250729T110957
TZOFFSETFROM:+0000
TZOFFSETTO:+0000
END:STANDARD
END:VTIMEZONE
BEGIN:VEVENT
UID:69eca10537ef5
DTSTAMP:20260425T110957Z
SUMMARY:Mit Faktenchecks gegen Desinformation
DESCRIPTION:Was ist eigentlich noch echt - und was nicht? Hier muss der Jou
 rnalismus konstruktive Antworten geben - nur wie? Wie hilfreich sind Fakte
 nchecks\, Explainer für mehr Medienskills und Prävention? Die Journalist
 in Rachel Baig ist Gründungsmitglied des Faktencheck-Teams bei der Deutsc
 hen Welle und hat die Antworten.
LOCATION:Münsterpl.\, 53111 Bonn\, Germany
URL:https://www.b-future.org/2024/veranstaltungen/mit-faktenchecks-gegen-de
 sinformation
DTSTART;TZID=Europe/Berlin:20241004T150000
DTEND;TZID=Europe/Berlin:20241004T160000
END:VEVENT
END:VCALENDAR