BEGIN:VCALENDAR
VERSION:2.0
PRODID:https://www.b-future.org/
NAME:Deutsch
X-WR-CALNAME:Deutsch
BEGIN:VTIMEZONE
TZID:Europe/Berlin
BEGIN:DAYLIGHT
DTSTART:20240331T010000
TZOFFSETFROM:+0100
TZOFFSETTO:+0200
END:DAYLIGHT
BEGIN:STANDARD
DTSTART:20241027T030000
TZOFFSETFROM:+0200
TZOFFSETTO:+0100
END:STANDARD
BEGIN:DAYLIGHT
DTSTART:20250330T010000
TZOFFSETFROM:+0100
TZOFFSETTO:+0200
END:DAYLIGHT
END:VTIMEZONE
BEGIN:VTIMEZONE
TZID:UTC
BEGIN:STANDARD
DTSTART:20250726T032336
TZOFFSETFROM:+0000
TZOFFSETTO:+0000
END:STANDARD
END:VTIMEZONE
BEGIN:VEVENT
UID:69e83f380bbc5
DTSTAMP:20260422T032336Z
SUMMARY:Sprechstunde mit dem Chefredakteur des General-Anzeiger
DESCRIPTION:Der Chefredakteur des General-Anzeigers steht eine Stunde lang 
 bereit für Ihre Fragen und Anregungen. Einblicke in die Arbeit der Redakt
 ion und die Entstehung unserer journalistischen Produkte inklusive. Ob Web
 seite\, ePaper oder gedruckte Zeitung – ganz egal.
LOCATION:Münsterpl.\, 53111 Bonn\, Germany
URL:https://www.b-future.org/2024/veranstaltungen/sprechstunde-mit-dem-chef
 redakteur-vom-general-anzeiger
DTSTART;TZID=Europe/Berlin:20241004T140000
DTEND;TZID=Europe/Berlin:20241004T150000
END:VEVENT
END:VCALENDAR