BEGIN:VCALENDAR
VERSION:2.0
PRODID:https://www.b-future.org/
NAME:Deutsch
X-WR-CALNAME:Deutsch
BEGIN:VTIMEZONE
TZID:Europe/Berlin
BEGIN:DAYLIGHT
DTSTART:20240331T010000
TZOFFSETFROM:+0100
TZOFFSETTO:+0200
END:DAYLIGHT
BEGIN:STANDARD
DTSTART:20241027T030000
TZOFFSETFROM:+0200
TZOFFSETTO:+0100
END:STANDARD
BEGIN:DAYLIGHT
DTSTART:20250330T010000
TZOFFSETFROM:+0100
TZOFFSETTO:+0200
END:DAYLIGHT
END:VTIMEZONE
BEGIN:VTIMEZONE
TZID:UTC
BEGIN:STANDARD
DTSTART:20250724T230338
TZOFFSETFROM:+0000
TZOFFSETTO:+0000
END:STANDARD
END:VTIMEZONE
BEGIN:VEVENT
UID:69e6b0ca1a7bb
DTSTAMP:20260420T230338Z
SUMMARY:Ihr Feedback\, unsere Innovation – Werden Sie Teil des GA-Teams
DESCRIPTION:Informationen und Anmeldung bei Susanne Kerscher vor Ort oder u
 nter https://abo.ga.de/b-future/
LOCATION:Münsterpl.\, 53111 Bonn\, Germany
URL:https://www.b-future.org/2024/veranstaltungen/ihr-feedback-unsere-innov
 ation-werden-sie-teil-des-ga-teams-2
DTSTART;TZID=Europe/Berlin:20241004T150000
DTEND;TZID=Europe/Berlin:20241004T180000
END:VEVENT
END:VCALENDAR