BEGIN:VCALENDAR
VERSION:2.0
PRODID:https://www.b-future.org/
NAME:Deutsch
X-WR-CALNAME:Deutsch
BEGIN:VTIMEZONE
TZID:Europe/Berlin
BEGIN:DAYLIGHT
DTSTART:20240331T010000
TZOFFSETFROM:+0100
TZOFFSETTO:+0200
END:DAYLIGHT
BEGIN:STANDARD
DTSTART:20241027T030000
TZOFFSETFROM:+0200
TZOFFSETTO:+0100
END:STANDARD
BEGIN:DAYLIGHT
DTSTART:20250330T010000
TZOFFSETFROM:+0100
TZOFFSETTO:+0200
END:DAYLIGHT
END:VTIMEZONE
BEGIN:VTIMEZONE
TZID:UTC
BEGIN:STANDARD
DTSTART:20250726T090733
TZOFFSETFROM:+0000
TZOFFSETTO:+0000
END:STANDARD
END:VTIMEZONE
BEGIN:VEVENT
UID:69e88fd5dd6b8
DTSTAMP:20260422T090733Z
SUMMARY:Eine Stunde reden
DESCRIPTION:Das Bonn Institute startet ein Experiment auf dem b° future fe
 stival: Können wir über schwierige Themen sprechen und andere Perspektiv
 en verstehen? Diskutieren Sie an kleinen Tischen\, moderiert von Journalis
 ten und Journalistinnen\, in einem geschützten Rahmen. Ziel ist es\, zuzu
 hören und verschiedene Sichtweisen besser zu verstehen – nicht\, andere
  vom eigenen Standpunkt zu überzeugen. Bei „Eine Stunde reden“ sind a
 lle willkommen. Anmeldung erforderlich\, Plätze begrenzt.
LOCATION:Münsterpl.\, 53111 Bonn\, Germany
URL:https://www.b-future.org/2024/veranstaltungen/eine-stunde-reden
DTSTART;TZID=Europe/Berlin:20241005T130000
DTEND;TZID=Europe/Berlin:20241005T144500
END:VEVENT
END:VCALENDAR