BEGIN:VCALENDAR
VERSION:2.0
PRODID:https://www.b-future.org/
NAME:Deutsch
X-WR-CALNAME:Deutsch
BEGIN:VTIMEZONE
TZID:Europe/Berlin
BEGIN:DAYLIGHT
DTSTART:20240331T010000
TZOFFSETFROM:+0100
TZOFFSETTO:+0200
END:DAYLIGHT
BEGIN:STANDARD
DTSTART:20241027T030000
TZOFFSETFROM:+0200
TZOFFSETTO:+0100
END:STANDARD
BEGIN:DAYLIGHT
DTSTART:20250330T010000
TZOFFSETFROM:+0100
TZOFFSETTO:+0200
END:DAYLIGHT
END:VTIMEZONE
BEGIN:VTIMEZONE
TZID:UTC
BEGIN:STANDARD
DTSTART:20250727T015205
TZOFFSETFROM:+0000
TZOFFSETTO:+0000
END:STANDARD
END:VTIMEZONE
BEGIN:VEVENT
UID:69e97b45e7f32
DTSTAMP:20260423T015205Z
SUMMARY:Was ist Ihr Problem? Warum ZEIT ONLINE und DIE ZEIT Plan D erfunden
  haben.
DESCRIPTION:Plan D ist das vielleicht größte Crowdsourcing in der Geschic
 hte von ZEIT ONLINE. Ein Ort des Austauschens und voneinander Lernens. Ein
  konstruktiver Vorschlag. Seit Ende März fragen wir: Was ist Ihr Problem?
  Wie reparieren Sie Deutschland?\n\nSeitdem dokumentieren wir die Vielfalt
  von Tausenden eingereichter Beiträge in unserem Verzeichnis – und scha
 uen uns ausgewählte Einreichungen in Texten\, Podcasts und Video genauer 
 an.\n\nWie wir das genau machen\, was KI und eine eigens programmierte Kon
 sole damit zu tun haben\, und welchen Geschichten wir wie begegnen\, das e
 rzählen wir in unserem Talk.
LOCATION:Münsterpl.\, 53111 Bonn\, Germany
URL:https://www.b-future.org/2024/veranstaltungen/was-ist-ihr-problem-warum
 -zeit-online-und-die-zeit-plan-d-erfunden-haben
DTSTART;TZID=Europe/Berlin:20241005T140000
DTEND;TZID=Europe/Berlin:20241005T144500
END:VEVENT
END:VCALENDAR