BEGIN:VCALENDAR
VERSION:2.0
PRODID:https://www.b-future.org/
NAME:Deutsch
X-WR-CALNAME:Deutsch
BEGIN:VTIMEZONE
TZID:Europe/Berlin
BEGIN:DAYLIGHT
DTSTART:20240331T010000
TZOFFSETFROM:+0100
TZOFFSETTO:+0200
END:DAYLIGHT
BEGIN:STANDARD
DTSTART:20241027T030000
TZOFFSETFROM:+0200
TZOFFSETTO:+0100
END:STANDARD
BEGIN:DAYLIGHT
DTSTART:20250330T010000
TZOFFSETFROM:+0100
TZOFFSETTO:+0200
END:DAYLIGHT
END:VTIMEZONE
BEGIN:VTIMEZONE
TZID:UTC
BEGIN:STANDARD
DTSTART:20250725T133515
TZOFFSETFROM:+0000
TZOFFSETTO:+0000
END:STANDARD
END:VTIMEZONE
BEGIN:VEVENT
UID:69e77d1347ce8
DTSTAMP:20260421T133515Z
SUMMARY:Mentoring mit Medienfrauen // Mentoring with Women in Journalism
DESCRIPTION:This session will be held in both German and English //\n\nWir 
 beantworten im Eins-zu-Eins-Deeptalk deine Fragen. Wege in den Journalismu
 s\, schwierige Situationen im Alltag\, entscheidende Weichen\, scheinbar u
 nüberwindbare Hürden? Sprich mit uns! \n\n  //\n\nWe answer your questio
 ns in a one-on-one deep talk. Whether it's finding your way into journalis
 m\, dealing with difficult everyday situations\, making pivotal decisions\
 , or overcoming seemingly insurmountable hurdles—talk to us!
LOCATION:
URL:https://www.b-future.org/2024/veranstaltungen/mentoring-mit-medienfraue
 n
DTSTART;TZID=Europe/Berlin:20241004T150000
DTEND;TZID=Europe/Berlin:20241004T170000
END:VEVENT
END:VCALENDAR