BEGIN:VCALENDAR
VERSION:2.0
PRODID:https://www.b-future.org/
NAME:Deutsch
X-WR-CALNAME:Deutsch
BEGIN:VTIMEZONE
TZID:Europe/Berlin
BEGIN:DAYLIGHT
DTSTART:20240331T010000
TZOFFSETFROM:+0100
TZOFFSETTO:+0200
END:DAYLIGHT
BEGIN:STANDARD
DTSTART:20241027T030000
TZOFFSETFROM:+0200
TZOFFSETTO:+0100
END:STANDARD
BEGIN:DAYLIGHT
DTSTART:20250330T010000
TZOFFSETFROM:+0100
TZOFFSETTO:+0200
END:DAYLIGHT
END:VTIMEZONE
BEGIN:VTIMEZONE
TZID:UTC
BEGIN:STANDARD
DTSTART:20250726T083406
TZOFFSETFROM:+0000
TZOFFSETTO:+0000
END:STANDARD
END:VTIMEZONE
BEGIN:VEVENT
UID:69e887fe87727
DTSTAMP:20260422T083406Z
SUMMARY:Über die Zukunft berichten
DESCRIPTION:Zukunftsbilder sind überall: Die einen träumen von einer Kolo
 nie auf dem Mars\, andere bereiten sich auf steigende Meeresspiegel vor. T
 echnologien wie KI und Bio-Engineering wecken bei Menschen Hoffnungen und 
 Ängste. Welche Zukünfte wir uns vorstellen\, verrät auch viel über Ein
 stellungen\, Annahmen und Lebensweisen im Jetzt. Ein wichtiges Feld für J
 ournalist*innen\, ein Feld mit Chancen und Stolperfallen. Wie berichtet ma
 n über etwas\, das noch nicht passiert ist? Darum geht es in dieser Sessi
 on.
LOCATION:Mülheimer Pl. 1\, 53111 Bonn\, Germany
URL:https://www.b-future.org/2024/veranstaltungen/ueber-die-zukunft-bericht
 en
DTSTART;TZID=Europe/Berlin:20241004T140000
DTEND;TZID=Europe/Berlin:20241004T144500
END:VEVENT
END:VCALENDAR