BEGIN:VCALENDAR
VERSION:2.0
PRODID:https://www.b-future.org/
NAME:Deutsch
X-WR-CALNAME:Deutsch
BEGIN:VTIMEZONE
TZID:Europe/Berlin
BEGIN:DAYLIGHT
DTSTART:20240331T010000
TZOFFSETFROM:+0100
TZOFFSETTO:+0200
END:DAYLIGHT
BEGIN:STANDARD
DTSTART:20241027T030000
TZOFFSETFROM:+0200
TZOFFSETTO:+0100
END:STANDARD
BEGIN:DAYLIGHT
DTSTART:20250330T010000
TZOFFSETFROM:+0100
TZOFFSETTO:+0200
END:DAYLIGHT
END:VTIMEZONE
BEGIN:VTIMEZONE
TZID:UTC
BEGIN:STANDARD
DTSTART:20250726T084459
TZOFFSETFROM:+0000
TZOFFSETTO:+0000
END:STANDARD
END:VTIMEZONE
BEGIN:VEVENT
UID:69e88a8b3712a
DTSTAMP:20260422T084459Z
SUMMARY:Konstruktiv Berichten über Leid
DESCRIPTION:Wie soll man angemessen berichten über Menschen\, die verzweif
 elt sind und alles verloren haben\, wie etwa in der Flutkatastrophe im Jul
 i 2021 in Teilen von Nordrhein-Westfalen und Rheinland-Pfalz? Und wie soll
  man ihnen begegnen? Wir haben mit betroffenen Privatpersonen\, Helfenden 
 und Journalist:innen über Empathie\, Sachgerechtigkeit und Empowerment ge
 sprochen. Die Session soll zeigen\, was sich daraus lernen lässt\, um an 
 künftige Notlagen konstruktiver heranzugehen.
LOCATION:Mülheimer Pl. 1\, 53111 Bonn\, Germany
URL:https://www.b-future.org/2024/veranstaltungen/konstruktiv-berichten-ueb
 er-leid
DTSTART;TZID=Europe/Berlin:20241005T100000
DTEND;TZID=Europe/Berlin:20241005T104500
END:VEVENT
END:VCALENDAR