BEGIN:VCALENDAR
VERSION:2.0
PRODID:https://www.b-future.org/
NAME:Deutsch
X-WR-CALNAME:Deutsch
BEGIN:VTIMEZONE
TZID:Europe/Berlin
BEGIN:DAYLIGHT
DTSTART:20230326T010000
TZOFFSETFROM:+0100
TZOFFSETTO:+0200
END:DAYLIGHT
BEGIN:STANDARD
DTSTART:20231029T030000
TZOFFSETFROM:+0200
TZOFFSETTO:+0100
END:STANDARD
END:VTIMEZONE
BEGIN:VTIMEZONE
TZID:UTC
BEGIN:STANDARD
DTSTART:20250729T001618
TZOFFSETFROM:+0000
TZOFFSETTO:+0000
END:STANDARD
END:VTIMEZONE
BEGIN:VEVENT
UID:69ec07d22d08d
DTSTAMP:20260425T001618Z
SUMMARY:How constructive journalism pays off for audiences and the media
DESCRIPTION:To reach audiences in times of increasing news avoidance and de
 creasing trust\, many media organizations worldwide are focussing more on 
 constructive reporting. But how much does this actually boost success? Wha
 t KPIs indicate that constructive reporting is not just good for society\,
  but does also pay off for media organizations?
LOCATION:
URL:https://www.b-future.org/en/2023/events/how-constructive-journalism-pay
 s-off-for-audiences-and-the-media
DTSTART;TZID=Europe/Berlin:20230915T160000
DTEND;TZID=Europe/Berlin:20230915T170000
END:VEVENT
END:VCALENDAR