BEGIN:VCALENDAR
VERSION:2.0
PRODID:https://www.b-future.org/
NAME:Deutsch
X-WR-CALNAME:Deutsch
BEGIN:VTIMEZONE
TZID:Europe/Berlin
BEGIN:DAYLIGHT
DTSTART:20230326T010000
TZOFFSETFROM:+0100
TZOFFSETTO:+0200
END:DAYLIGHT
BEGIN:STANDARD
DTSTART:20231029T030000
TZOFFSETFROM:+0200
TZOFFSETTO:+0100
END:STANDARD
END:VTIMEZONE
BEGIN:VTIMEZONE
TZID:UTC
BEGIN:STANDARD
DTSTART:20250728T000242
TZOFFSETFROM:+0000
TZOFFSETTO:+0000
END:STANDARD
END:VTIMEZONE
BEGIN:VEVENT
UID:69eab32254319
DTSTAMP:20260424T000242Z
SUMMARY:Die Lügenattacken der Klimaleugner
DESCRIPTION:Wenn sich Menschen nicht mehr auf einfachste Fakten einigen kö
 nnen\, werden gemeinsame Lösungen unmöglich. Nach Corona und Ukraine dom
 inieren wieder Klima-Fakenews die Sozialen Netzwerke. Was sind die größt
 en Klimalügen\, wer steckt dahinter und welche Folgen haben sie für unse
 re Demokratie?
LOCATION:Mülheimer Pl. 1\, 53111 Bonn\, Germany
URL:https://www.b-future.org/2023/veranstaltungen/die-luegenattacken-der-kl
 imaleugner
DTSTART;TZID=Europe/Berlin:20230916T150000
DTEND;TZID=Europe/Berlin:20230916T160000
END:VEVENT
END:VCALENDAR