BEGIN:VCALENDAR
VERSION:2.0
PRODID:https://www.b-future.org/
NAME:Deutsch
X-WR-CALNAME:Deutsch
BEGIN:VTIMEZONE
TZID:Europe/Berlin
BEGIN:DAYLIGHT
DTSTART:20230326T010000
TZOFFSETFROM:+0100
TZOFFSETTO:+0200
END:DAYLIGHT
BEGIN:STANDARD
DTSTART:20231029T030000
TZOFFSETFROM:+0200
TZOFFSETTO:+0100
END:STANDARD
END:VTIMEZONE
BEGIN:VTIMEZONE
TZID:UTC
BEGIN:STANDARD
DTSTART:20250729T111003
TZOFFSETFROM:+0000
TZOFFSETTO:+0000
END:STANDARD
END:VTIMEZONE
BEGIN:VEVENT
UID:69eca10b5998c
DTSTAMP:20260425T111003Z
SUMMARY:How can we effectively combat disinformation?
DESCRIPTION:\"On every social media platform\, we encounter a plethora of f
 alse information\, propaganda\, and fakes. With the rise of AI application
 s\, the question of what is authentic and what is not has become more pres
 sing than ever. Journalism must provide constructive answers in this scena
 rio - but how? How effective are fact-checks\, explainers for improving me
 dia literacy\, and preventive measures?
LOCATION:
URL:https://www.b-future.org/en/2023/events/how-can-we-effectively-combat-d
 isinformation
DTSTART;TZID=Europe/Berlin:20230915T170000
DTEND;TZID=Europe/Berlin:20230915T180000
END:VEVENT
END:VCALENDAR