BEGIN:VCALENDAR
VERSION:2.0
PRODID:https://www.b-future.org/
NAME:Deutsch
X-WR-CALNAME:Deutsch
BEGIN:VTIMEZONE
TZID:Europe/Berlin
BEGIN:DAYLIGHT
DTSTART:20230326T010000
TZOFFSETFROM:+0100
TZOFFSETTO:+0200
END:DAYLIGHT
BEGIN:STANDARD
DTSTART:20231029T030000
TZOFFSETFROM:+0200
TZOFFSETTO:+0100
END:STANDARD
END:VTIMEZONE
BEGIN:VTIMEZONE
TZID:UTC
BEGIN:STANDARD
DTSTART:20250729T001705
TZOFFSETFROM:+0000
TZOFFSETTO:+0000
END:STANDARD
END:VTIMEZONE
BEGIN:VEVENT
UID:69ec0801e37f2
DTSTAMP:20260425T001705Z
SUMMARY:Constructive Journalism at +90: Overcoming challenges and fostering
  engagement in Turkey
DESCRIPTION:Discover how +90\, part of Deutsche Welle\, overcame hurdles to
  deliver quality journalism in Turkey's challenging political landscape. A
 t our proposed panel discussion at b° future festival\, we share lessons 
 from tackling the 2023 earthquakes and covering the recent general electio
 n. Learn about the power of constructive journalism and help shape the fut
 ure of media in Turkey and beyond.
LOCATION:
URL:https://www.b-future.org/en/2023/events/constructive-journalism-at-90-o
 vercoming-challenges-and-fostering-engagement-in-turkey
DTSTART;TZID=Europe/Berlin:20230915T140000
DTEND;TZID=Europe/Berlin:20230915T150000
END:VEVENT
END:VCALENDAR